BEGIN:VCALENDAR
VERSION:2.0
PRODID:-//Vietnamese Queen of Martys Parish - ECPv6.15.20//NONSGML v1.0//EN
CALSCALE:GREGORIAN
METHOD:PUBLISH
X-ORIGINAL-URL:https://giaoxuedmonton.ca
X-WR-CALDESC:Events for Vietnamese Queen of Martys Parish
REFRESH-INTERVAL;VALUE=DURATION:PT1H
X-Robots-Tag:noindex
X-PUBLISHED-TTL:PT1H
BEGIN:VTIMEZONE
TZID:America/Edmonton
BEGIN:DAYLIGHT
TZOFFSETFROM:-0700
TZOFFSETTO:-0600
TZNAME:MDT
DTSTART:20210314T090000
END:DAYLIGHT
BEGIN:STANDARD
TZOFFSETFROM:-0600
TZOFFSETTO:-0700
TZNAME:MST
DTSTART:20211107T080000
END:STANDARD
BEGIN:DAYLIGHT
TZOFFSETFROM:-0700
TZOFFSETTO:-0600
TZNAME:MDT
DTSTART:20220313T090000
END:DAYLIGHT
BEGIN:STANDARD
TZOFFSETFROM:-0600
TZOFFSETTO:-0700
TZNAME:MST
DTSTART:20221106T080000
END:STANDARD
BEGIN:DAYLIGHT
TZOFFSETFROM:-0700
TZOFFSETTO:-0600
TZNAME:MDT
DTSTART:20230312T090000
END:DAYLIGHT
BEGIN:STANDARD
TZOFFSETFROM:-0600
TZOFFSETTO:-0700
TZNAME:MST
DTSTART:20231105T080000
END:STANDARD
END:VTIMEZONE
BEGIN:VEVENT
DTSTART;TZID=America/Edmonton:20220701T100000
DTEND;TZID=America/Edmonton:20220701T180000
DTSTAMP:20260423T223944
CREATED:20220604T213339Z
LAST-MODIFIED:20220604T213339Z
UID:1351-1656669600-1656698400@giaoxuedmonton.ca
SUMMARY:Buổi dã ngoại của giáo xứ
DESCRIPTION:Để thể hiện tinh thần hiệp nhất trong cộng đoàn sau mùa dịch\, Giáo Xứ có tổ chức buổi dã ngoại chung cho toàn thể giáo xứ. Kính mời quý cụ\, ông bà và anh chị em cùng tham gia \n  \n 
URL:https://giaoxuedmonton.ca/event/buoi-da-ngoai-cua-giao-xu/
LOCATION:Gold Bar Park\, 10955 50 St NW\, Edmonton\, AB\, T6A 2E9\, Canada
CATEGORIES:Sinh hoạt giáo xứ
ATTACH;FMTTYPE=image/jpeg:https://giaoxuedmonton.ca/wp-content/uploads/2022/06/church_picnic.jpg
END:VEVENT
END:VCALENDAR