BEGIN:VCALENDAR
VERSION:2.0
PRODID:-//Vietnamese Queen of Martys Parish - ECPv6.15.20//NONSGML v1.0//EN
CALSCALE:GREGORIAN
METHOD:PUBLISH
X-WR-CALNAME:Vietnamese Queen of Martys Parish
X-ORIGINAL-URL:https://giaoxuedmonton.ca
X-WR-CALDESC:Events for Vietnamese Queen of Martys Parish
REFRESH-INTERVAL;VALUE=DURATION:PT1H
X-Robots-Tag:noindex
X-PUBLISHED-TTL:PT1H
BEGIN:VTIMEZONE
TZID:America/Edmonton
BEGIN:DAYLIGHT
TZOFFSETFROM:-0700
TZOFFSETTO:-0600
TZNAME:MDT
DTSTART:20210314T090000
END:DAYLIGHT
BEGIN:STANDARD
TZOFFSETFROM:-0600
TZOFFSETTO:-0700
TZNAME:MST
DTSTART:20211107T080000
END:STANDARD
BEGIN:DAYLIGHT
TZOFFSETFROM:-0700
TZOFFSETTO:-0600
TZNAME:MDT
DTSTART:20220313T090000
END:DAYLIGHT
BEGIN:STANDARD
TZOFFSETFROM:-0600
TZOFFSETTO:-0700
TZNAME:MST
DTSTART:20221106T080000
END:STANDARD
BEGIN:DAYLIGHT
TZOFFSETFROM:-0700
TZOFFSETTO:-0600
TZNAME:MDT
DTSTART:20230312T090000
END:DAYLIGHT
BEGIN:STANDARD
TZOFFSETFROM:-0600
TZOFFSETTO:-0700
TZNAME:MST
DTSTART:20231105T080000
END:STANDARD
END:VTIMEZONE
BEGIN:VEVENT
DTSTART;VALUE=DATE:20220822
DTEND;VALUE=DATE:20220827
DTSTAMP:20260423T211639
CREATED:20220604T211819Z
LAST-MODIFIED:20220604T211819Z
UID:1348-1661126400-1661558399@giaoxuedmonton.ca
SUMMARY:Catholic Youth Camps 2022 (Grades 7 - 9)
DESCRIPTION: 
URL:https://giaoxuedmonton.ca/event/catholic-youth-camps-grades-7-9/
LOCATION:Camp Oselia on Wabamun lake\, Highway 16\, Range road 53\, Edmonton\, AB\, Canada
CATEGORIES:Giáo Lý
ATTACH;FMTTYPE=image/jpeg:https://giaoxuedmonton.ca/wp-content/uploads/2022/05/2022-CAEDM-Poster-2-scaled.jpg
END:VEVENT
BEGIN:VEVENT
DTSTART;VALUE=DATE:20220801
DTEND;VALUE=DATE:20220806
DTSTAMP:20260423T211639
CREATED:20220604T211554Z
LAST-MODIFIED:20220604T211554Z
UID:1346-1659312000-1659743999@giaoxuedmonton.ca
SUMMARY:Catholic Youth Camps 2022 (Grades 4-6)
DESCRIPTION: 
URL:https://giaoxuedmonton.ca/event/catholic-youth-camps-2022-grades-4-6/
LOCATION:Camp Oselia on Wabamun lake\, Highway 16\, Range road 53\, Edmonton\, AB\, Canada
CATEGORIES:Giáo Lý
ATTACH;FMTTYPE=image/jpeg:https://giaoxuedmonton.ca/wp-content/uploads/2022/05/2022-CAEDM-Poster-2-scaled.jpg
END:VEVENT
BEGIN:VEVENT
DTSTART;VALUE=DATE:20220725
DTEND;VALUE=DATE:20220730
DTSTAMP:20260423T211639
CREATED:20220604T205541Z
LAST-MODIFIED:20220604T210224Z
UID:1338-1658707200-1659139199@giaoxuedmonton.ca
SUMMARY:Catholic Youth Camps 2022 (Grades 10 - 12)
DESCRIPTION: 
URL:https://giaoxuedmonton.ca/event/catholic-youth-camps-grades-10-12/
LOCATION:Camp Oselia on Wabamun lake\, Highway 16\, Range road 53\, Edmonton\, AB\, Canada
CATEGORIES:Giáo Lý
ATTACH;FMTTYPE=image/jpeg:https://giaoxuedmonton.ca/wp-content/uploads/2022/05/2022-CAEDM-Poster-2-scaled.jpg
END:VEVENT
END:VCALENDAR